BEGIN:VCALENDAR
VERSION:2.0
PRODID:-//Tukios.com/
BEGIN:VEVENT
UID:c4823303-84e2-4125-9a71-9ece9b7e6d84@www.jtmorriss.com
DTSTAMP:20260420T095846Z
DTSTART:20260423T140000Z
DTEND:20260423T150000Z
SUMMARY:Graveside Service
DESCRIPTION:
URL:https://www.jtmorriss.com/obituaries/steve-wilkerson
LOCATION:Southlawn Memorial Park 1911 Birdsong Road  S. Prince George VA 
	23805
GEO:37.1643667;-77.3661788
END:VEVENT
END:VCALENDAR