BEGIN:VCALENDAR
VERSION:2.0
PRODID:-//Tukios.com/
BEGIN:VEVENT
UID:0da27346-9c7e-4227-827c-7a55623371bc@www.jtmorriss.com
DTSTAMP:20260423T010028Z
DTSTART:20260425T140000Z
DTEND:20260425T150000Z
SUMMARY:Funeral Service
DESCRIPTION:
URL:https://www.jtmorriss.com/obituaries/jonathan-harrison
LOCATION:Trinity Community Methodist Church 4814 Courthouse Rd  Church 
	Road VA 23833
GEO:37.2059304;-77.6617022
END:VEVENT
END:VCALENDAR