BEGIN:VCALENDAR
VERSION:2.0
PRODID:-//Tukios.com/
BEGIN:VEVENT
UID:bf374934-7808-44eb-80a9-c810bd927c9e@www.jtmorriss.com
DTSTAMP:20260423T005947Z
DTSTART:20260424T220000Z
DTEND:20260425T000000Z
SUMMARY:Public Visitation
DESCRIPTION:
URL:https://www.jtmorriss.com/obituaries/jonathan-harrison
LOCATION:J.T. Morriss & Son - Dinwiddie 6616 Boydton Plank Road  N. 
	Dinwiddie VA 23803
GEO:37.1813412;-77.4917279
END:VEVENT
END:VCALENDAR