BEGIN:VCALENDAR
VERSION:2.0
PRODID:-//Tukios.com/
BEGIN:VEVENT
UID:df6a9880-0f5e-4686-9a80-72cc595d9120@www.jtmorriss.com
DTSTAMP:20260424T225210Z
DTSTART:20260501T220000Z
DTEND:20260502T000000Z
SUMMARY:Visitation
DESCRIPTION:
URL:https://www.jtmorriss.com/obituaries/david-king
LOCATION:Chester Chapel 3050 W. Hundred Road  Chester VA 23831
GEO:37.3570791;-77.4214806
END:VEVENT
END:VCALENDAR